BEGIN:VCALENDAR
VERSION:2.0
PRODID:-//Cedar Cottage Neighbourhood House - ECPv6.6.4//NONSGML v1.0//EN
CALSCALE:GREGORIAN
METHOD:PUBLISH
X-ORIGINAL-URL:https://www.cedarcottage.org
X-WR-CALDESC:Events for Cedar Cottage Neighbourhood House
REFRESH-INTERVAL;VALUE=DURATION:PT1H
X-Robots-Tag:noindex
X-PUBLISHED-TTL:PT1H
BEGIN:VTIMEZONE
TZID:America/Vancouver
BEGIN:DAYLIGHT
TZOFFSETFROM:-0800
TZOFFSETTO:-0700
TZNAME:PDT
DTSTART:20210314T100000
END:DAYLIGHT
BEGIN:STANDARD
TZOFFSETFROM:-0700
TZOFFSETTO:-0800
TZNAME:PST
DTSTART:20211107T090000
END:STANDARD
END:VTIMEZONE
BEGIN:VEVENT
DTSTART;TZID=America/Vancouver:20210318T130000
DTEND;TZID=America/Vancouver:20210318T134500
DTSTAMP:20260420T004559
CREATED:20210129T215301Z
LAST-MODIFIED:20210129T215301Z
UID:4287-1616072400-1616075100@www.cedarcottage.org
SUMMARY:Nobody's Perfect Parenting - online session via zoom
DESCRIPTION:Join Cedar Cottage Neighbourhood House for our next Nobody's Perfect Parenting Program virtually via Zoom. \nNobody's Perfect Parenting Program is: \n\nconnecting and communicating with other parents of young children\nhelping parents build on skills they have and learn new ones\nimproving parent's self-esteem and coping skills\ndiscussing real-life parenting situations\nincreasing parent's understanding of children's health\, safety\, and behaviour\npromoting positive parenting\n\nA maximum of 8 participants can participate to ensure the program can benefit all participant's needs during each session. \nSessions will run for 6 weeks for 45 minutes. Space is limited so register as soon as possible. \nTo register\, please provide: your name & child's name and age to Brigette (Family Support Worker) at bbouchard@cedarcottage.org or Wendy (Family Support Worker) at whon@cedarcottage.org. \nWe will email you a Zoom Meeting link before each session on the day of. \nWhat is Zoom and how do I use it? https://www.youtube.com/watch?v=9isp3qPeQ0E
URL:https://www.cedarcottage.org/event/nobodys-perfect-parenting-online-session-via-zoom-5/
LOCATION:Online via Zoom
CATEGORIES:Online
END:VEVENT
BEGIN:VEVENT
DTSTART;TZID=America/Vancouver:20210325T130000
DTEND;TZID=America/Vancouver:20210325T134500
DTSTAMP:20260420T004559
CREATED:20210129T215333Z
LAST-MODIFIED:20210129T215333Z
UID:4290-1616677200-1616679900@www.cedarcottage.org
SUMMARY:Nobody's Perfect Parenting - online session via zoom
DESCRIPTION:Join Cedar Cottage Neighbourhood House for our next Nobody's Perfect Parenting Program virtually via Zoom. \nNobody's Perfect Parenting Program is: \n\nconnecting and communicating with other parents of young children\nhelping parents build on skills they have and learn new ones\nimproving parent's self-esteem and coping skills\ndiscussing real-life parenting situations\nincreasing parent's understanding of children's health\, safety\, and behaviour\npromoting positive parenting\n\nA maximum of 8 participants can participate to ensure the program can benefit all participant's needs during each session. \nSessions will run for 6 weeks for 45 minutes. Space is limited so register as soon as possible. \nTo register\, please provide: your name & child's name and age to Brigette (Family Support Worker) at bbouchard@cedarcottage.org or Wendy (Family Support Worker) at whon@cedarcottage.org. \nWe will email you a Zoom Meeting link before each session on the day of. \nWhat is Zoom and how do I use it? https://www.youtube.com/watch?v=9isp3qPeQ0E
URL:https://www.cedarcottage.org/event/nobodys-perfect-parenting-online-session-via-zoom-6/
LOCATION:Online via Zoom
CATEGORIES:Online
END:VEVENT
END:VCALENDAR