BEGIN:VCALENDAR
VERSION:2.0
PRODID:-//Cedar Cottage Neighbourhood House - ECPv6.6.4//NONSGML v1.0//EN
CALSCALE:GREGORIAN
METHOD:PUBLISH
X-ORIGINAL-URL:https://www.cedarcottage.org
X-WR-CALDESC:Events for Cedar Cottage Neighbourhood House
REFRESH-INTERVAL;VALUE=DURATION:PT1H
X-Robots-Tag:noindex
X-PUBLISHED-TTL:PT1H
BEGIN:VTIMEZONE
TZID:America/Vancouver
BEGIN:DAYLIGHT
TZOFFSETFROM:-0800
TZOFFSETTO:-0700
TZNAME:PDT
DTSTART:20190310T100000
END:DAYLIGHT
BEGIN:STANDARD
TZOFFSETFROM:-0700
TZOFFSETTO:-0800
TZNAME:PST
DTSTART:20191103T090000
END:STANDARD
END:VTIMEZONE
BEGIN:VEVENT
DTSTART;TZID=America/Vancouver:20190214T100000
DTEND;TZID=America/Vancouver:20190214T113000
DTSTAMP:20260419T215229
CREATED:20190122T230304Z
LAST-MODIFIED:20190122T230304Z
UID:3414-1550138400-1550143800@www.cedarcottage.org
SUMMARY:Seniors Walking Club
DESCRIPTION:Seniors - come walk with us and boost your brain and body to the max.
URL:https://www.cedarcottage.org/event/seniors-walking-club-2-2-2/
END:VEVENT
BEGIN:VEVENT
DTSTART;TZID=America/Vancouver:20190215T093000
DTEND;TZID=America/Vancouver:20190215T113000
DTSTAMP:20260419T215229
CREATED:20190118T003714Z
LAST-MODIFIED:20190118T003714Z
UID:3390-1550223000-1550230200@www.cedarcottage.org
SUMMARY:Infant Drop In
DESCRIPTION:For children 0-2 years of age. Siblings are welcome!
URL:https://www.cedarcottage.org/event/infant-drop-in-2-2-2/
END:VEVENT
BEGIN:VEVENT
DTSTART;TZID=America/Vancouver:20190216T103000
DTEND;TZID=America/Vancouver:20190216T133000
DTSTAMP:20260419T215229
CREATED:20190117T232538Z
LAST-MODIFIED:20190122T234029Z
UID:3347-1550313000-1550323800@www.cedarcottage.org
SUMMARY:Lunar New Year Celebration
DESCRIPTION:Lion dance will begin at 10:30am. There will be performances and activities for all ages!
URL:https://www.cedarcottage.org/event/cedar-cottage-lunar-new-year-celebration/
LOCATION:Cedar Cottage Neighbourhood House\, 4065 Victoria Drive\, Vancouver\, BC\, V5N 4M9\, Canada
END:VEVENT
BEGIN:VEVENT
DTSTART;TZID=America/Vancouver:20190219T133000
DTEND;TZID=America/Vancouver:20190219T153000
DTSTAMP:20260419T215229
CREATED:20190117T235810Z
LAST-MODIFIED:20190117T235810Z
UID:3358-1550583000-1550590200@www.cedarcottage.org
SUMMARY:Free & Fun Drop In for Seniors
DESCRIPTION:Join us for a cup of coffee or tea\, and connect with friends while playing games\, dancing\, making crafts\, or exercising.
URL:https://www.cedarcottage.org/event/free-fun-drop-in-for-seniors-2-2-2-2/
LOCATION:Cedar Cottage Neighbourhood House\, 4065 Victoria Drive\, Vancouver\, BC\, V5N 4M9\, Canada
END:VEVENT
BEGIN:VEVENT
DTSTART;TZID=America/Vancouver:20190220T100000
DTEND;TZID=America/Vancouver:20190220T110000
DTSTAMP:20260419T215230
CREATED:20190118T002119Z
LAST-MODIFIED:20190118T002119Z
UID:3380-1550656800-1550660400@www.cedarcottage.org
SUMMARY:Children's Yoga with Wendy
DESCRIPTION:Parents and children are welcome in this child friendly yoga space.
URL:https://www.cedarcottage.org/event/childrens-yoga-with-wendy-2-2-2-2/
LOCATION:Cedar Cottage Neighbourhood House\, 4065 Victoria Drive\, Vancouver\, BC\, V5N 4M9\, Canada
END:VEVENT
BEGIN:VEVENT
DTSTART;TZID=America/Vancouver:20190220T140000
DTEND;TZID=America/Vancouver:20190220T150000
DTSTAMP:20260419T215230
CREATED:20190122T224455Z
LAST-MODIFIED:20190122T224556Z
UID:3402-1550671200-1550674800@www.cedarcottage.org
SUMMARY:Chair Yoga for Seniors
DESCRIPTION:Chair yoga exercises for seniors in a fun and safe environment.
URL:https://www.cedarcottage.org/event/chair-yoga-for-seniors-2-2-2/
LOCATION:Cedar Cottage Neighbourhood House\, 4065 Victoria Drive\, Vancouver\, BC\, V5N 4M9\, Canada
END:VEVENT
BEGIN:VEVENT
DTSTART;TZID=America/Vancouver:20190221T100000
DTEND;TZID=America/Vancouver:20190221T113000
DTSTAMP:20260419T215230
CREATED:20190122T230401Z
LAST-MODIFIED:20190122T230401Z
UID:3416-1550743200-1550748600@www.cedarcottage.org
SUMMARY:Seniors Walking Club
DESCRIPTION:Seniors - come walk with us and boost your brain and body to the max.
URL:https://www.cedarcottage.org/event/seniors-walking-club-2-2-2-2/
END:VEVENT
BEGIN:VEVENT
DTSTART;TZID=America/Vancouver:20190222T093000
DTEND;TZID=America/Vancouver:20190222T113000
DTSTAMP:20260419T215230
CREATED:20190118T003828Z
LAST-MODIFIED:20190118T003828Z
UID:3392-1550827800-1550835000@www.cedarcottage.org
SUMMARY:Infant Drop In
DESCRIPTION:For children 0-2 years of age. Siblings are welcome!
URL:https://www.cedarcottage.org/event/infant-drop-in-2-2-2-2/
END:VEVENT
BEGIN:VEVENT
DTSTART;TZID=America/Vancouver:20190223T093000
DTEND;TZID=America/Vancouver:20190223T123000
DTSTAMP:20260419T215230
CREATED:20190117T232402Z
LAST-MODIFIED:20190117T232402Z
UID:3345-1550914200-1550925000@www.cedarcottage.org
SUMMARY:Crochet Circle
DESCRIPTION:Come join neighbours and friends for free tea\, snacks\, and conversation while crocheting warm clothing for individuals in need.
URL:https://www.cedarcottage.org/event/crochet-circle-2-2-2-2/
LOCATION:Cedar Cottage Neighbourhood House\, 4065 Victoria Drive\, Vancouver\, BC\, V5N 4M9\, Canada
END:VEVENT
BEGIN:VEVENT
DTSTART;TZID=America/Vancouver:20190223T100000
DTEND;TZID=America/Vancouver:20190223T120000
DTSTAMP:20260419T215230
CREATED:20190118T001218Z
LAST-MODIFIED:20190118T001218Z
UID:3370-1550916000-1550923200@www.cedarcottage.org
SUMMARY:Family Drop In Saturdays
DESCRIPTION:Join us for snacks\, arts and crafts\, circle time\, and more! All are welcome to this free program.
URL:https://www.cedarcottage.org/event/family-drop-in-saturdays-2-2-2-2/
END:VEVENT
BEGIN:VEVENT
DTSTART;TZID=America/Vancouver:20190223T103000
DTEND;TZID=America/Vancouver:20190223T123000
DTSTAMP:20260419T215230
CREATED:20190122T232757Z
LAST-MODIFIED:20190122T232757Z
UID:3428-1550917800-1550925000@www.cedarcottage.org
SUMMARY:English Class
DESCRIPTION:Practice speaking and learn English with friends and neighbours.
URL:https://www.cedarcottage.org/event/english-class-2-2-2-2/
END:VEVENT
BEGIN:VEVENT
DTSTART;TZID=America/Vancouver:20190226T133000
DTEND;TZID=America/Vancouver:20190226T153000
DTSTAMP:20260419T215230
CREATED:20190117T235914Z
LAST-MODIFIED:20190117T235914Z
UID:3360-1551187800-1551195000@www.cedarcottage.org
SUMMARY:Free & Fun Drop In for Seniors
DESCRIPTION:Join us for a cup of coffee or tea\, and connect with friends while playing games\, dancing\, making crafts\, or exercising.
URL:https://www.cedarcottage.org/event/free-fun-drop-in-for-seniors-2-2-2-2-2/
LOCATION:Cedar Cottage Neighbourhood House\, 4065 Victoria Drive\, Vancouver\, BC\, V5N 4M9\, Canada
END:VEVENT
BEGIN:VEVENT
DTSTART;TZID=America/Vancouver:20190227T100000
DTEND;TZID=America/Vancouver:20190227T110000
DTSTAMP:20260419T215230
CREATED:20190118T002329Z
LAST-MODIFIED:20190118T002329Z
UID:3382-1551261600-1551265200@www.cedarcottage.org
SUMMARY:Children's Yoga with Wendy
DESCRIPTION:Parents and children are welcome in this child friendly yoga space.
URL:https://www.cedarcottage.org/event/childrens-yoga-with-wendy-2-2-2-2-2/
LOCATION:Cedar Cottage Neighbourhood House\, 4065 Victoria Drive\, Vancouver\, BC\, V5N 4M9\, Canada
END:VEVENT
BEGIN:VEVENT
DTSTART;TZID=America/Vancouver:20190227T140000
DTEND;TZID=America/Vancouver:20190227T150000
DTSTAMP:20260419T215230
CREATED:20190122T225053Z
LAST-MODIFIED:20190122T225312Z
UID:3406-1551276000-1551279600@www.cedarcottage.org
SUMMARY:Chair Yoga for Seniors
DESCRIPTION:Chair yoga exercises for seniors in a fun and safe environment.
URL:https://www.cedarcottage.org/event/chair-yoga-for-seniors-2-2-2-2-2/
LOCATION:Cedar Cottage Neighbourhood House\, 4065 Victoria Drive\, Vancouver\, BC\, V5N 4M9\, Canada
END:VEVENT
BEGIN:VEVENT
DTSTART;TZID=America/Vancouver:20190228T100000
DTEND;TZID=America/Vancouver:20190228T113000
DTSTAMP:20260419T215230
CREATED:20190122T231240Z
LAST-MODIFIED:20190122T231240Z
UID:3418-1551348000-1551353400@www.cedarcottage.org
SUMMARY:Seniors Walking Club
DESCRIPTION:Seniors - come walk with us and boost your brain and body to the max.
URL:https://www.cedarcottage.org/event/seniors-walking-club-2-2-2-2-2/
END:VEVENT
BEGIN:VEVENT
DTSTART;TZID=America/Vancouver:20191001T100000
DTEND;TZID=America/Vancouver:20191001T110000
DTSTAMP:20260419T215230
CREATED:20190930T140831Z
LAST-MODIFIED:20190930T142109Z
UID:3532-1569924000-1569927600@www.cedarcottage.org
SUMMARY:Stories and Rhyme Time
DESCRIPTION:Weekly drop-in program\n10:00 to 11:00 am\, Tuesdays \nWant to know more?\nCall Brigette or Wendy:\n604 874 4231
URL:https://www.cedarcottage.org/event/stories-and-rhyme-time/
LOCATION:Cedar Cottage Neighbourhood House\, 4065 Victoria Drive\, Vancouver\, BC\, V5N 4M9\, Canada
END:VEVENT
BEGIN:VEVENT
DTSTART;TZID=America/Vancouver:20191001T170000
DTEND;TZID=America/Vancouver:20191001T183000
DTSTAMP:20260419T215230
CREATED:20190930T131419Z
LAST-MODIFIED:20190930T134514Z
UID:3464-1569949200-1569954600@www.cedarcottage.org
SUMMARY:Indigenous Family Night - Every Child Matters & Family Games Night
DESCRIPTION:Indigenous Family Night with Cedar Cottage Neighbourhood House and Native Health \nIn partnership with Vancouver Native Health Society \nTuesdays 5:00 -6:30PM \nThis is a free program for Indigenous families. \nJoin us for dinner and stay to learn about local resources\, participate in cultural activities\, arts & crafts and more! \nIf attending call to confirm numbers in your family to ensure there’s enough food. \nOctober 1st is Every Child Matters & Family Games Night! \nFor more information or to register call:\nLinda\, Muriel or Janice at Cedar Cottage 604-874-4231
URL:https://www.cedarcottage.org/event/indigenous-family-night/
LOCATION:Cedar Cottage Neighbourhood House\, 4065 Victoria Drive\, Vancouver\, BC\, V5N 4M9\, Canada
END:VEVENT
BEGIN:VEVENT
DTSTART;TZID=America/Vancouver:20191002T100000
DTEND;TZID=America/Vancouver:20191002T110000
DTSTAMP:20260419T215230
CREATED:20190930T141733Z
LAST-MODIFIED:20190930T141733Z
UID:3542-1570010400-1570014000@www.cedarcottage.org
SUMMARY:Yoga with Wendy
DESCRIPTION:Weekly drop-in program\n10:00 to 11:00 am\, Wednesdays \nWant to know more?\nCall Brigette or Wendy:\n604 874 4231
URL:https://www.cedarcottage.org/event/yoga-with-wendy/
LOCATION:Cedar Cottage Neighbourhood House\, 4065 Victoria Drive\, Vancouver\, BC\, V5N 4M9\, Canada
END:VEVENT
BEGIN:VEVENT
DTSTART;TZID=America/Vancouver:20191003T093000
DTEND;TZID=America/Vancouver:20191003T113000
DTSTAMP:20260419T215230
CREATED:20190930T135259Z
LAST-MODIFIED:20191002T130822Z
UID:3516-1570095000-1570102200@www.cedarcottage.org
SUMMARY:Stay and Play
DESCRIPTION:Weekly drop-in\n9:30 to 11:30 am\, Mondays and Thursdays \nWant to know more?\nCall Brigette or Wendy:\n604 874 4231
URL:https://www.cedarcottage.org/event/stay-and-play/
LOCATION:Cedar Cottage Neighbourhood House\, 4065 Victoria Drive\, Vancouver\, BC\, V5N 4M9\, Canada
END:VEVENT
BEGIN:VEVENT
DTSTART;TZID=America/Vancouver:20191003T170000
DTEND;TZID=America/Vancouver:20191003T190000
DTSTAMP:20260419T215230
CREATED:20190930T142737Z
LAST-MODIFIED:20190930T142737Z
UID:3552-1570122000-1570129200@www.cedarcottage.org
SUMMARY:Family Evening Time
DESCRIPTION:Weekly drop-in program\n5:00 to 7:00 pm\, Thursdays \nWant to know more?\nCall Brigette or Wendy:\n604 874 4231
URL:https://www.cedarcottage.org/event/family-evening-time/
END:VEVENT
BEGIN:VEVENT
DTSTART;TZID=America/Vancouver:20191004T093000
DTEND;TZID=America/Vancouver:20191004T113000
DTSTAMP:20260419T215230
CREATED:20190930T143331Z
LAST-MODIFIED:20190930T143435Z
UID:3565-1570181400-1570188600@www.cedarcottage.org
SUMMARY:Let's Cook
DESCRIPTION:Weekly drop-in program\n9:30 to 11:30 am\, Fridays \nWant to know more?\nCall Brigette or Wendy:\n604 874 4231
URL:https://www.cedarcottage.org/event/lets-cook/
LOCATION:Cedar Cottage Neighbourhood House\, 4065 Victoria Drive\, Vancouver\, BC\, V5N 4M9\, Canada
END:VEVENT
BEGIN:VEVENT
DTSTART;TZID=America/Vancouver:20191004T123000
DTEND;TZID=America/Vancouver:20191004T143000
DTSTAMP:20260419T215230
CREATED:20190930T143855Z
LAST-MODIFIED:20190930T144945Z
UID:3573-1570192200-1570199400@www.cedarcottage.org
SUMMARY:Learning Together
DESCRIPTION:Weekly drop-in program\n12:30 to 2:30 pm\, Fridays \nWant to know more?\nCall Brigette or Wendy:\n604 874 4231
URL:https://www.cedarcottage.org/event/learning-together/
LOCATION:Cedar Cottage Neighbourhood House\, 4065 Victoria Drive\, Vancouver\, BC\, V5N 4M9\, Canada
END:VEVENT
BEGIN:VEVENT
DTSTART;TZID=America/Vancouver:20191005T090000
DTEND;TZID=America/Vancouver:20191005T110000
DTSTAMP:20260419T215230
CREATED:20190930T131124Z
LAST-MODIFIED:20191002T190532Z
UID:3448-1570266000-1570273200@www.cedarcottage.org
SUMMARY:Vancouver-Kingsway All Candidates Meeting
DESCRIPTION:[vc_row][vc_column][vc_column_text]\nCedar Cottage Neighbourhood House invites the Vancouver Kingsway and Vancouver East residents\nThis is an opportunity to ask your local candidate questions about what is important to you.\n*Fill out questions for candidates at Cedar Cottage Neighbourhood House[/vc_column_text][vc_empty_space height="20px"][vc_row_inner][vc_column_inner width="1/3"][vc_column_text]What is important to you ?  \n\nEducation\nChildcare\nInfrastructure - New Neighbourhood House\nClimate Change\nIndigenous Rights\nHousing\n\n9:00 - 10:00 Free Pancake breakfast\n10:00 - 11:00 Panel Question and Answer \nLocation:\nCedar Cottage Neighbourhood House\n4065 Victoria Drive \nFor more information:\nccnh@cedarcottage.org\n604-874-4231[/vc_column_text][/vc_column_inner][vc_column_inner width="1/3"][vc_single_image image="3454" img_size="medium"][/vc_column_inner][vc_column_inner width="1/3"][/vc_column_inner][/vc_row_inner][/vc_column][/vc_row]
URL:https://www.cedarcottage.org/event/vancouver-kingsway-all-candidates-meeting/
LOCATION:Cedar Cottage Neighbourhood House\, 4065 Victoria Drive\, Vancouver\, BC\, V5N 4M9\, Canada
END:VEVENT
BEGIN:VEVENT
DTSTART;TZID=America/Vancouver:20191005T093000
DTEND;TZID=America/Vancouver:20191005T120000
DTSTAMP:20260419T215230
CREATED:20190930T145406Z
LAST-MODIFIED:20190930T145406Z
UID:3586-1570267800-1570276800@www.cedarcottage.org
SUMMARY:Literacy Learning through Play
DESCRIPTION:Weekly drop-in program\n9:30 am to 12:00 pm\, Saturdays \nWant to know more?\nCall Brigette or Wendy:\n604 874 4231
URL:https://www.cedarcottage.org/event/literacy-learning-through-play/
LOCATION:Cedar Cottage Neighbourhood House\, 4065 Victoria Drive\, Vancouver\, BC\, V5N 4M9\, Canada
END:VEVENT
BEGIN:VEVENT
DTSTART;TZID=America/Vancouver:20191007T093000
DTEND;TZID=America/Vancouver:20191007T113000
DTSTAMP:20260419T215230
CREATED:20190930T135605Z
LAST-MODIFIED:20190930T135605Z
UID:3518-1570440600-1570447800@www.cedarcottage.org
SUMMARY:Stay and Play
DESCRIPTION:Weekly drop-in\n9:30 to 11:30 am\, Mondays and Thursdays \nWant to know more?\nCall Brigette or Wendy:\n604 874 4231
URL:https://www.cedarcottage.org/event/stay-and-play-2/
LOCATION:Cedar Cottage Neighbourhood House\, 4065 Victoria Drive\, Vancouver\, BC\, V5N 4M9\, Canada
END:VEVENT
BEGIN:VEVENT
DTSTART;TZID=America/Vancouver:20191008T100000
DTEND;TZID=America/Vancouver:20191008T110000
DTSTAMP:20260419T215230
CREATED:20190930T141045Z
LAST-MODIFIED:20190930T142025Z
UID:3534-1570528800-1570532400@www.cedarcottage.org
SUMMARY:Stories and Rhyme Time
DESCRIPTION:Weekly drop-in program\n10:00 to 11:00 am\, Tuesdays \nWant to know more?\nCall Brigette or Wendy:\n604 874 4231
URL:https://www.cedarcottage.org/event/stories-and-rhyme-time-2/
LOCATION:Cedar Cottage Neighbourhood House\, 4065 Victoria Drive\, Vancouver\, BC\, V5N 4M9\, Canada
END:VEVENT
BEGIN:VEVENT
DTSTART;TZID=America/Vancouver:20191008T170000
DTEND;TZID=America/Vancouver:20191008T183000
DTSTAMP:20260419T215230
CREATED:20190930T131602Z
LAST-MODIFIED:20190930T134611Z
UID:3467-1570554000-1570559400@www.cedarcottage.org
SUMMARY:Indigenous Family Night - Calendula Workshop
DESCRIPTION:Indigenous Family Night with Cedar Cottage Neighbourhood House and Native Health \nIn partnership with Vancouver Native Health Society \nTuesdays 5:00 -6:30PM \nThis is a free program for Indigenous families. \nJoin us for dinner and stay to learn about local resources\, participate in cultural activities\, arts & crafts and more! \nIf attending call to confirm numbers in your family to ensure there’s enough food. \nOctober 8th is Calendula Workshop Facilitated by Leona Brown \nFor more information or to register call:\nLinda\, Muriel or Janice at Cedar Cottage 604-874-4231
URL:https://www.cedarcottage.org/event/indigenous-family-night-calendula-workshop/
LOCATION:Cedar Cottage Neighbourhood House\, 4065 Victoria Drive\, Vancouver\, BC\, V5N 4M9\, Canada
END:VEVENT
BEGIN:VEVENT
DTSTART;TZID=America/Vancouver:20191009T100000
DTEND;TZID=America/Vancouver:20191009T110000
DTSTAMP:20260419T215230
CREATED:20190930T142312Z
LAST-MODIFIED:20190930T142312Z
UID:3544-1570615200-1570618800@www.cedarcottage.org
SUMMARY:Yoga with Wendy
DESCRIPTION:Weekly drop-in program\n10:00 to 11:00 am\, Wednesdays \nWant to know more?\nCall Brigette or Wendy:\n604 874 4231
URL:https://www.cedarcottage.org/event/yoga-with-wendy-2/
LOCATION:Cedar Cottage Neighbourhood House\, 4065 Victoria Drive\, Vancouver\, BC\, V5N 4M9\, Canada
END:VEVENT
BEGIN:VEVENT
DTSTART;TZID=America/Vancouver:20191010T093000
DTEND;TZID=America/Vancouver:20191010T113000
DTSTAMP:20260419T215230
CREATED:20190930T135722Z
LAST-MODIFIED:20190930T140040Z
UID:3525-1570699800-1570707000@www.cedarcottage.org
SUMMARY:Stay and Play
DESCRIPTION:Weekly drop-in\n9:30 to 11:30 am\, Mondays and Thursdays \nWant to know more?\nCall Brigette or Wendy:\n604 874 4231
URL:https://www.cedarcottage.org/event/stay-and-play-3/
LOCATION:Cedar Cottage Neighbourhood House\, 4065 Victoria Drive\, Vancouver\, BC\, V5N 4M9\, Canada
END:VEVENT
BEGIN:VEVENT
DTSTART;TZID=America/Vancouver:20191010T170000
DTEND;TZID=America/Vancouver:20191010T190000
DTSTAMP:20260419T215230
CREATED:20190930T142918Z
LAST-MODIFIED:20190930T142918Z
UID:3554-1570726800-1570734000@www.cedarcottage.org
SUMMARY:Family Evening Time
DESCRIPTION:Weekly drop-in program\n5:00 to 7:00 pm\, Thursdays \nWant to know more?\nCall Brigette or Wendy:\n604 874 4231
URL:https://www.cedarcottage.org/event/family-evening-time-2/
END:VEVENT
END:VCALENDAR