BEGIN:VCALENDAR
VERSION:2.0
PRODID:-//Cedar Cottage Neighbourhood House - ECPv6.6.4//NONSGML v1.0//EN
CALSCALE:GREGORIAN
METHOD:PUBLISH
X-ORIGINAL-URL:https://www.cedarcottage.org
X-WR-CALDESC:Events for Cedar Cottage Neighbourhood House
REFRESH-INTERVAL;VALUE=DURATION:PT1H
X-Robots-Tag:noindex
X-PUBLISHED-TTL:PT1H
BEGIN:VTIMEZONE
TZID:America/Vancouver
BEGIN:DAYLIGHT
TZOFFSETFROM:-0800
TZOFFSETTO:-0700
TZNAME:PDT
DTSTART:20210314T100000
END:DAYLIGHT
BEGIN:STANDARD
TZOFFSETFROM:-0700
TZOFFSETTO:-0800
TZNAME:PST
DTSTART:20211107T090000
END:STANDARD
END:VTIMEZONE
BEGIN:VEVENT
DTSTART;TZID=America/Vancouver:20210203T100000
DTEND;TZID=America/Vancouver:20210203T103000
DTSTAMP:20260419T182911
CREATED:20210111T143201Z
LAST-MODIFIED:20210111T143201Z
UID:4154-1612346400-1612348200@www.cedarcottage.org
SUMMARY:Learning and Growing Together - online session via Zoom
DESCRIPTION:All parents of young children need information and support. This group will give you opportunities to learn new concepts\, and to interact with other parents and caregivers with young children. We will cover a variety of parenting topics. \nBring your questions\, successes and concerns and we'll learn and grow together. \nContact Brigette (Family Support Worker) at bbouchard@cedarcottage.org to register. \nWe will email you a Zoom Meeting link before each session on the day of. \nWhat is Zoom and how do I use it? https://www.youtube.com/watch?v=9isp3qPeQ0E
URL:https://www.cedarcottage.org/event/learning-and-growing-together-online-session-via-zoom-4/
LOCATION:Online via Zoom
CATEGORIES:Online
END:VEVENT
BEGIN:VEVENT
DTSTART;TZID=America/Vancouver:20210203T100000
DTEND;TZID=America/Vancouver:20210203T104000
DTSTAMP:20260419T182911
CREATED:20210129T212107Z
LAST-MODIFIED:20210129T213526Z
UID:4256-1612346400-1612348800@www.cedarcottage.org
SUMMARY:Online Tips for Parents & Caregivers: Online Shopping - online session via Zoom
DESCRIPTION:Expand your skills on making smart and safe choices while using the Internet. \nSession 1: Online Shopping \n\nLearn important tips to keep your financial information private\n\nPresented in partnership with:\nMount Pleasant Neighbourhood House\n800 East Broadway\, Vancouver\nUnceded Coast Salish Territory\nwww.mpnh.org \nRegistration required. \nTo register\, please contact: \n\nBrigette\, bbouchard@cedarcottage.org\nNicole\, nrich@mpnh.org\, 604-671-8208\n\nWhat is Zoom and how do I use it? https://www.youtube.com/watch?v=9isp3qPeQ0E \nOther sessions: Session 2 is on February 17th\, 2021\, with information about Facebook. Session 3 is on March 3rd\, 2021\, with information "Participant Choice" topics.
URL:https://www.cedarcottage.org/event/online-tips-for-parents-caregivers-online-shopping-online-session-via-zoom/
LOCATION:Online via Zoom
CATEGORIES:Online
END:VEVENT
END:VCALENDAR