BEGIN:VCALENDAR
VERSION:2.0
PRODID:-//Cedar Cottage Neighbourhood House - ECPv6.6.4//NONSGML v1.0//EN
CALSCALE:GREGORIAN
METHOD:PUBLISH
X-ORIGINAL-URL:https://www.cedarcottage.org
X-WR-CALDESC:Events for Cedar Cottage Neighbourhood House
REFRESH-INTERVAL;VALUE=DURATION:PT1H
X-Robots-Tag:noindex
X-PUBLISHED-TTL:PT1H
BEGIN:VTIMEZONE
TZID:America/Vancouver
BEGIN:DAYLIGHT
TZOFFSETFROM:-0800
TZOFFSETTO:-0700
TZNAME:PDT
DTSTART:20210314T100000
END:DAYLIGHT
BEGIN:STANDARD
TZOFFSETFROM:-0700
TZOFFSETTO:-0800
TZNAME:PST
DTSTART:20211107T090000
END:STANDARD
END:VTIMEZONE
BEGIN:VEVENT
DTSTART;TZID=America/Vancouver:20210118T100000
DTEND;TZID=America/Vancouver:20210118T103000
DTSTAMP:20260421T152526
CREATED:20210111T134036Z
LAST-MODIFIED:20210111T140254Z
UID:4067-1610964000-1610965800@www.cedarcottage.org
SUMMARY:Coffee and Chat - online sesson via Zoom
DESCRIPTION:This group is a place for adults to chat\, laugh\, learn and know that you are not alone. We are all in this together. \nContact Brigette (Family Support Worker) at bbouchard@cedarcottage.org to register. \nWe will email you a Zoom Meeting link before each session on the day of. \nWhat is Zoom and how do I use it? https://www.youtube.com/watch?v=9isp3qPeQ0E
URL:https://www.cedarcottage.org/event/coffee-and-chat-online-sesson-via-zoom-2/
LOCATION:Online via Zoom
CATEGORIES:Online
END:VEVENT
END:VCALENDAR