BEGIN:VCALENDAR
VERSION:2.0
PRODID:-//Cedar Cottage Neighbourhood House - ECPv6.6.4//NONSGML v1.0//EN
CALSCALE:GREGORIAN
METHOD:PUBLISH
X-ORIGINAL-URL:https://www.cedarcottage.org
X-WR-CALDESC:Events for Cedar Cottage Neighbourhood House
REFRESH-INTERVAL;VALUE=DURATION:PT1H
X-Robots-Tag:noindex
X-PUBLISHED-TTL:PT1H
BEGIN:VTIMEZONE
TZID:America/Vancouver
BEGIN:DAYLIGHT
TZOFFSETFROM:-0800
TZOFFSETTO:-0700
TZNAME:PDT
DTSTART:20190310T100000
END:DAYLIGHT
BEGIN:STANDARD
TZOFFSETFROM:-0700
TZOFFSETTO:-0800
TZNAME:PST
DTSTART:20191103T090000
END:STANDARD
END:VTIMEZONE
BEGIN:VEVENT
DTSTART;TZID=America/Vancouver:20190208T093000
DTEND;TZID=America/Vancouver:20190208T113000
DTSTAMP:20260419T153321
CREATED:20190118T003540Z
LAST-MODIFIED:20190118T003540Z
UID:3388-1549618200-1549625400@www.cedarcottage.org
SUMMARY:Infant Drop In
DESCRIPTION:For children 0-2 years of age. Siblings are welcome!
URL:https://www.cedarcottage.org/event/infant-drop-in-2-2/
END:VEVENT
END:VCALENDAR