BEGIN:VCALENDAR
VERSION:2.0
PRODID:-//Cedar Cottage Neighbourhood House - ECPv6.6.4//NONSGML v1.0//EN
CALSCALE:GREGORIAN
METHOD:PUBLISH
X-WR-CALNAME:Cedar Cottage Neighbourhood House
X-ORIGINAL-URL:https://www.cedarcottage.org
X-WR-CALDESC:Events for Cedar Cottage Neighbourhood House
REFRESH-INTERVAL;VALUE=DURATION:PT1H
X-Robots-Tag:noindex
X-PUBLISHED-TTL:PT1H
BEGIN:VTIMEZONE
TZID:America/Vancouver
BEGIN:DAYLIGHT
TZOFFSETFROM:-0800
TZOFFSETTO:-0700
TZNAME:PDT
DTSTART:20190310T100000
END:DAYLIGHT
BEGIN:STANDARD
TZOFFSETFROM:-0700
TZOFFSETTO:-0800
TZNAME:PST
DTSTART:20191103T090000
END:STANDARD
END:VTIMEZONE
BEGIN:VEVENT
DTSTART;TZID=America/Vancouver:20190205T123000
DTEND;TZID=America/Vancouver:20190205T140000
DTSTAMP:20260419T152605
CREATED:20181213T004317Z
LAST-MODIFIED:20181213T004317Z
UID:3252-1549369800-1549375200@www.cedarcottage.org
SUMMARY:Caregivers Workshop on Dementia (Cantonese)
DESCRIPTION:Learn about understanding dementia\, how the communication and behaviour are changing\, planning for the future\, and self-care for caregivers. This free workshop is hosted by the Alzheimer Society of B.C. \nTo sign up for the workshop\, please call Irving or Hazel at 604-874-4231.
URL:https://www.cedarcottage.org/event/caregivers-workshop-on-dementia-cantonese-2-2/
LOCATION:Cedar Cottage Neighbourhood House\, 4065 Victoria Drive\, Vancouver\, BC\, V5N 4M9\, Canada
END:VEVENT
BEGIN:VEVENT
DTSTART;TZID=America/Vancouver:20190205T133000
DTEND;TZID=America/Vancouver:20190205T153000
DTSTAMP:20260419T152605
CREATED:20190117T235449Z
LAST-MODIFIED:20190117T235449Z
UID:3354-1549373400-1549380600@www.cedarcottage.org
SUMMARY:Free & Fun Drop In for Seniors
DESCRIPTION:Join us for a cup of coffee or tea\, and connect with friends while playing games\, dancing\, making crafts\, or exercising.
URL:https://www.cedarcottage.org/event/free-fun-drop-in-for-seniors-2-2/
LOCATION:Cedar Cottage Neighbourhood House\, 4065 Victoria Drive\, Vancouver\, BC\, V5N 4M9\, Canada
END:VEVENT
END:VCALENDAR