BEGIN:VCALENDAR
VERSION:2.0
PRODID:-//Cedar Cottage Neighbourhood House - ECPv6.6.4//NONSGML v1.0//EN
CALSCALE:GREGORIAN
METHOD:PUBLISH
X-WR-CALNAME:Cedar Cottage Neighbourhood House
X-ORIGINAL-URL:https://www.cedarcottage.org
X-WR-CALDESC:Events for Cedar Cottage Neighbourhood House
REFRESH-INTERVAL;VALUE=DURATION:PT1H
X-Robots-Tag:noindex
X-PUBLISHED-TTL:PT1H
BEGIN:VTIMEZONE
TZID:America/Vancouver
BEGIN:DAYLIGHT
TZOFFSETFROM:-0800
TZOFFSETTO:-0700
TZNAME:PDT
DTSTART:20190310T100000
END:DAYLIGHT
BEGIN:STANDARD
TZOFFSETFROM:-0700
TZOFFSETTO:-0800
TZNAME:PST
DTSTART:20191103T090000
END:STANDARD
END:VTIMEZONE
BEGIN:VEVENT
DTSTART;TZID=America/Vancouver:20190130T100000
DTEND;TZID=America/Vancouver:20190130T110000
DTSTAMP:20260417T215831
CREATED:20190118T001700Z
LAST-MODIFIED:20190118T001700Z
UID:3374-1548842400-1548846000@www.cedarcottage.org
SUMMARY:Children's Yoga with Wendy
DESCRIPTION:Parents and children are welcome in this child friendly yoga space.
URL:https://www.cedarcottage.org/event/childrens-yoga-with-wendy-2/
LOCATION:Cedar Cottage Neighbourhood House\, 4065 Victoria Drive\, Vancouver\, BC\, V5N 4M9\, Canada
END:VEVENT
BEGIN:VEVENT
DTSTART;TZID=America/Vancouver:20190130T140000
DTEND;TZID=America/Vancouver:20190130T150000
DTSTAMP:20260417T215831
CREATED:20190122T224222Z
LAST-MODIFIED:20190122T224222Z
UID:3398-1548856800-1548860400@www.cedarcottage.org
SUMMARY:Chair Yoga for Seniors
DESCRIPTION:Chair yoga exercises for seniors in a fun and safe environment.
URL:https://www.cedarcottage.org/event/chair-yoga-for-seniors-2/
LOCATION:Cedar Cottage Neighbourhood House\, 4065 Victoria Drive\, Vancouver\, BC\, V5N 4M9\, Canada
END:VEVENT
END:VCALENDAR