BEGIN:VCALENDAR
VERSION:2.0
PRODID:-//Cedar Cottage Neighbourhood House - ECPv6.6.4//NONSGML v1.0//EN
CALSCALE:GREGORIAN
METHOD:PUBLISH
X-WR-CALNAME:Cedar Cottage Neighbourhood House
X-ORIGINAL-URL:https://www.cedarcottage.org
X-WR-CALDESC:Events for Cedar Cottage Neighbourhood House
REFRESH-INTERVAL;VALUE=DURATION:PT1H
X-Robots-Tag:noindex
X-PUBLISHED-TTL:PT1H
BEGIN:VTIMEZONE
TZID:America/Vancouver
BEGIN:DAYLIGHT
TZOFFSETFROM:-0800
TZOFFSETTO:-0700
TZNAME:PDT
DTSTART:20180311T100000
END:DAYLIGHT
BEGIN:STANDARD
TZOFFSETFROM:-0700
TZOFFSETTO:-0800
TZNAME:PST
DTSTART:20181104T090000
END:STANDARD
END:VTIMEZONE
BEGIN:VEVENT
DTSTART;TZID=America/Vancouver:20181215T093000
DTEND;TZID=America/Vancouver:20181215T123000
DTSTAMP:20260419T182455
CREATED:20181213T010955Z
LAST-MODIFIED:20181213T010955Z
UID:3262-1544866200-1544877000@www.cedarcottage.org
SUMMARY:Crochet Circle
DESCRIPTION:Come join neighbours and friends for free tea\, snacks\, and conversation while crocheting clothing for individuals in need.
URL:https://www.cedarcottage.org/event/chinese-painting-group-2-2-2/
LOCATION:Cedar Cottage Neighbourhood House\, 4065 Victoria Drive\, Vancouver\, BC\, V5N 4M9\, Canada
END:VEVENT
BEGIN:VEVENT
DTSTART;TZID=America/Vancouver:20181215T103000
DTEND;TZID=America/Vancouver:20181215T123000
DTSTAMP:20260419T182455
CREATED:20181213T235202Z
LAST-MODIFIED:20181213T235202Z
UID:3317-1544869800-1544877000@www.cedarcottage.org
SUMMARY:English Conversation Class
DESCRIPTION:Join other seniors who are excited to practice and learn English together.
URL:https://www.cedarcottage.org/event/chinese-painting-group-2-2-2-2-2-2-2-2-2/
LOCATION:Cedar Cottage Neighbourhood House\, 4065 Victoria Drive\, Vancouver\, BC\, V5N 4M9\, Canada
END:VEVENT
END:VCALENDAR